BEGIN:VCALENDAR
VERSION:2.0
PRODID:-//AFAVilanova - ECPv6.15.20//NONSGML v1.0//EN
CALSCALE:GREGORIAN
METHOD:PUBLISH
X-WR-CALNAME:AFAVilanova
X-ORIGINAL-URL:https://afaescolapiavng.cat
X-WR-CALDESC:Esdeveniments per AFAVilanova
REFRESH-INTERVAL;VALUE=DURATION:PT1H
X-Robots-Tag:noindex
X-PUBLISHED-TTL:PT1H
BEGIN:VTIMEZONE
TZID:Europe/Madrid
BEGIN:DAYLIGHT
TZOFFSETFROM:+0100
TZOFFSETTO:+0200
TZNAME:CEST
DTSTART:20240331T010000
END:DAYLIGHT
BEGIN:STANDARD
TZOFFSETFROM:+0200
TZOFFSETTO:+0100
TZNAME:CET
DTSTART:20241027T010000
END:STANDARD
BEGIN:DAYLIGHT
TZOFFSETFROM:+0100
TZOFFSETTO:+0200
TZNAME:CEST
DTSTART:20250330T010000
END:DAYLIGHT
BEGIN:STANDARD
TZOFFSETFROM:+0200
TZOFFSETTO:+0100
TZNAME:CET
DTSTART:20251026T010000
END:STANDARD
BEGIN:DAYLIGHT
TZOFFSETFROM:+0100
TZOFFSETTO:+0200
TZNAME:CEST
DTSTART:20260329T010000
END:DAYLIGHT
BEGIN:STANDARD
TZOFFSETFROM:+0200
TZOFFSETTO:+0100
TZNAME:CET
DTSTART:20261025T010000
END:STANDARD
END:VTIMEZONE
BEGIN:VEVENT
DTSTART;TZID=Europe/Madrid:20251201T170000
DTEND;TZID=Europe/Madrid:20251201T170000
DTSTAMP:20260423T113354
CREATED:20251126T144956Z
LAST-MODIFIED:20251127T130537Z
UID:1261-1764608400-1764608400@afaescolapiavng.cat
SUMMARY:Assemblea General
DESCRIPTION:Reunió de tots els membres per tractar els temes principals\, prendre decisions i aprovar els punts de l’ordre del dia.
URL:https://afaescolapiavng.cat/event/assemblea-general/
END:VEVENT
BEGIN:VEVENT
DTSTART;VALUE=DATE:20250908
DTEND;VALUE=DATE:20250909
DTSTAMP:20260423T113354
CREATED:20250723T125237Z
LAST-MODIFIED:20250723T125237Z
UID:933-1757289600-1757375999@afaescolapiavng.cat
SUMMARY:Inici Curs 25-26
DESCRIPTION:
URL:https://afaescolapiavng.cat/event/inici-curs-25-26/
END:VEVENT
BEGIN:VEVENT
DTSTART;TZID=Europe/Madrid:20250624T083000
DTEND;TZID=Europe/Madrid:20250624T160000
DTSTAMP:20260423T113354
CREATED:20250513T152734Z
LAST-MODIFIED:20250718T111817Z
UID:514-1750753800-1750780800@afaescolapiavng.cat
SUMMARY:Festa de fi de curs
DESCRIPTION:Festa realitzada en les instal·lacions de la escola
URL:https://afaescolapiavng.cat/event/festa-de-fi-de-curs/
LOCATION:Prova Local\, Prova Direccio\, Prova Ciutat\, Ba
END:VEVENT
END:VCALENDAR